BEGIN:VCALENDAR
VERSION:2.0
PRODID:-//Ocala Business Leaders - ECPv6.14.2//NONSGML v1.0//EN
CALSCALE:GREGORIAN
METHOD:PUBLISH
X-ORIGINAL-URL:https://ocalabusinessleaders.com
X-WR-CALDESC:Events for Ocala Business Leaders
REFRESH-INTERVAL;VALUE=DURATION:PT1H
X-Robots-Tag:noindex
X-PUBLISHED-TTL:PT1H
BEGIN:VTIMEZONE
TZID:America/New_York
BEGIN:DAYLIGHT
TZOFFSETFROM:-0500
TZOFFSETTO:-0400
TZNAME:EDT
DTSTART:20220313T070000
END:DAYLIGHT
BEGIN:STANDARD
TZOFFSETFROM:-0400
TZOFFSETTO:-0500
TZNAME:EST
DTSTART:20221106T060000
END:STANDARD
END:VTIMEZONE
BEGIN:VEVENT
DTSTART;TZID=America/New_York:20221102T063000
DTEND;TZID=America/New_York:20221102T080000
DTSTAMP:20260419T140838
CREATED:20221028T142940Z
LAST-MODIFIED:20221028T170740Z
UID:10000129-1667370600-1667376000@ocalabusinessleaders.com
SUMMARY:Weekly Networking Breakfast
DESCRIPTION:Join us at the Ocala Golf Club on Wednesdays for our weekly OBL fellowship breakfast. This is a great opportunity to meet the members of Ocala Business Leaders and introduce yourself to the community. Visitors welcome!
URL:https://ocalabusinessleaders.com/event/weekly-networking-breakfast/2022-11-02/
LOCATION:Ocala Golf Club\, 3130 E Silver Springs Blvd\, Ocala\, FL\, 34470\, United States
CATEGORIES:Fellowship Breakfast,Networking Event
ATTACH;FMTTYPE=image/jpeg:https://ocalabusinessleaders.com/wp-content/uploads/2022/03/breakfast-at-obl.jpg
END:VEVENT
BEGIN:VEVENT
DTSTART;TZID=America/New_York:20221102T063000
DTEND;TZID=America/New_York:20221102T200000
DTSTAMP:20260419T140838
CREATED:20221028T143706Z
LAST-MODIFIED:20221028T143938Z
UID:10000060-1667370600-1667419200@ocalabusinessleaders.com
SUMMARY:Updates From The Board
DESCRIPTION:Join us to hear the latest updates from the board and committees at Ocala Business Leaders.
URL:https://ocalabusinessleaders.com/event/updates-from-the-board/
LOCATION:Ocala Golf Club\, 3130 E Silver Springs Blvd\, Ocala\, FL\, 34470\, United States
CATEGORIES:Board Updates
ATTACH;FMTTYPE=image/jpeg:https://ocalabusinessleaders.com/wp-content/uploads/2022/05/UpdatesFromTheBoard.jpg
END:VEVENT
BEGIN:VEVENT
DTSTART;TZID=America/New_York:20221109T063000
DTEND;TZID=America/New_York:20221109T080000
DTSTAMP:20260419T140838
CREATED:20221028T170854Z
LAST-MODIFIED:20221108T171103Z
UID:10000130-1667975400-1667980800@ocalabusinessleaders.com
SUMMARY:Weekly Networking Breakfast & Leadership Voting
DESCRIPTION:Join us at the Ocala Golf Club on Wednesdays for our weekly OBL fellowship breakfast. This is a great opportunity to meet the members of Ocala Business Leaders and introduce yourself to the community. Visitors welcome!
URL:https://ocalabusinessleaders.com/event/weekly-networking-breakfast-2/
LOCATION:Ocala Golf Club\, 3130 E Silver Springs Blvd\, Ocala\, FL\, 34470\, United States
CATEGORIES:Fellowship Breakfast,Networking Event
ATTACH;FMTTYPE=image/jpeg:https://ocalabusinessleaders.com/wp-content/uploads/2022/10/Elections.jpg
END:VEVENT
BEGIN:VEVENT
DTSTART;TZID=America/New_York:20221116T063000
DTEND;TZID=America/New_York:20221116T080000
DTSTAMP:20260419T140838
CREATED:20221028T142940Z
LAST-MODIFIED:20221028T170740Z
UID:10000131-1668580200-1668585600@ocalabusinessleaders.com
SUMMARY:Weekly Networking Breakfast
DESCRIPTION:Join us at the Ocala Golf Club on Wednesdays for our weekly OBL fellowship breakfast. This is a great opportunity to meet the members of Ocala Business Leaders and introduce yourself to the community. Visitors welcome!
URL:https://ocalabusinessleaders.com/event/weekly-networking-breakfast/2022-11-16/
LOCATION:Ocala Golf Club\, 3130 E Silver Springs Blvd\, Ocala\, FL\, 34470\, United States
CATEGORIES:Fellowship Breakfast,Networking Event
ATTACH;FMTTYPE=image/jpeg:https://ocalabusinessleaders.com/wp-content/uploads/2022/03/breakfast-at-obl.jpg
END:VEVENT
BEGIN:VEVENT
DTSTART;TZID=America/New_York:20221123T063000
DTEND;TZID=America/New_York:20221123T080000
DTSTAMP:20260419T140838
CREATED:20221117T192026Z
LAST-MODIFIED:20221117T213448Z
UID:10000132-1669185000-1669190400@ocalabusinessleaders.com
SUMMARY:No Networking Breakfast This Week
DESCRIPTION:We will not meet this week due to the upcoming holiday. Happy Thanksgiving everyone!
URL:https://ocalabusinessleaders.com/event/weekly-networking-breakfast-3/
LOCATION:Ocala Golf Club\, 3130 E Silver Springs Blvd\, Ocala\, FL\, 34470\, United States
CATEGORIES:Fellowship Breakfast,Networking Event
ATTACH;FMTTYPE=image/jpeg:https://ocalabusinessleaders.com/wp-content/uploads/2022/11/NoMeeting_Thanksgiving-1.jpg
END:VEVENT
BEGIN:VEVENT
DTSTART;TZID=America/New_York:20221130T063000
DTEND;TZID=America/New_York:20221130T080000
DTSTAMP:20260419T140838
CREATED:20221028T142940Z
LAST-MODIFIED:20221028T170740Z
UID:10000133-1669789800-1669795200@ocalabusinessleaders.com
SUMMARY:Weekly Networking Breakfast
DESCRIPTION:Join us at the Ocala Golf Club on Wednesdays for our weekly OBL fellowship breakfast. This is a great opportunity to meet the members of Ocala Business Leaders and introduce yourself to the community. Visitors welcome!
URL:https://ocalabusinessleaders.com/event/weekly-networking-breakfast/2022-11-30/
LOCATION:Ocala Golf Club\, 3130 E Silver Springs Blvd\, Ocala\, FL\, 34470\, United States
CATEGORIES:Fellowship Breakfast,Networking Event
ATTACH;FMTTYPE=image/jpeg:https://ocalabusinessleaders.com/wp-content/uploads/2022/03/breakfast-at-obl.jpg
END:VEVENT
BEGIN:VEVENT
DTSTART;TZID=America/New_York:20221130T070000
DTEND;TZID=America/New_York:20221130T083000
DTSTAMP:20260419T140838
CREATED:20221118T163525Z
LAST-MODIFIED:20221118T164148Z
UID:10000196-1669791600-1669797000@ocalabusinessleaders.com
SUMMARY:Cicc Ferrentino with Ferrentino & Son
DESCRIPTION:Cicc Ferrentino from Ferrentino & Son will be giving a 10-minute infomercial to the group. Join us for a great breakfast and learn more about his business.
URL:https://ocalabusinessleaders.com/event/cicc-ferrentino-with-ferrentino-son/
LOCATION:Ocala Golf Club\, 3130 E Silver Springs Blvd\, Ocala\, FL\, 34470\, United States
CATEGORIES:15-Minute Infomercials
ATTACH;FMTTYPE=image/jpeg:https://ocalabusinessleaders.com/wp-content/uploads/2022/11/FerrentinoAndSon.jpg
END:VEVENT
END:VCALENDAR