BEGIN:VCALENDAR
VERSION:2.0
PRODID:-//Ocala Business Leaders - ECPv6.14.2//NONSGML v1.0//EN
CALSCALE:GREGORIAN
METHOD:PUBLISH
X-WR-CALNAME:Ocala Business Leaders
X-ORIGINAL-URL:https://ocalabusinessleaders.com
X-WR-CALDESC:Events for Ocala Business Leaders
REFRESH-INTERVAL;VALUE=DURATION:PT1H
X-Robots-Tag:noindex
X-PUBLISHED-TTL:PT1H
BEGIN:VTIMEZONE
TZID:America/New_York
BEGIN:DAYLIGHT
TZOFFSETFROM:-0500
TZOFFSETTO:-0400
TZNAME:EDT
DTSTART:20220313T070000
END:DAYLIGHT
BEGIN:STANDARD
TZOFFSETFROM:-0400
TZOFFSETTO:-0500
TZNAME:EST
DTSTART:20221106T060000
END:STANDARD
END:VTIMEZONE
BEGIN:VEVENT
DTSTART;TZID=America/New_York:20221207T063000
DTEND;TZID=America/New_York:20221207T080000
DTSTAMP:20260423T043336
CREATED:20221028T142940Z
LAST-MODIFIED:20221028T170740Z
UID:10000134-1670394600-1670400000@ocalabusinessleaders.com
SUMMARY:Weekly Networking Breakfast
DESCRIPTION:Join us at the Ocala Golf Club on Wednesdays for our weekly OBL fellowship breakfast. This is a great opportunity to meet the members of Ocala Business Leaders and introduce yourself to the community. Visitors welcome!
URL:https://ocalabusinessleaders.com/event/weekly-networking-breakfast/2022-12-07/
LOCATION:Ocala Golf Club\, 3130 E Silver Springs Blvd\, Ocala\, FL\, 34470\, United States
CATEGORIES:Fellowship Breakfast,Networking Event
ATTACH;FMTTYPE=image/jpeg:https://ocalabusinessleaders.com/wp-content/uploads/2022/03/breakfast-at-obl.jpg
END:VEVENT
BEGIN:VEVENT
DTSTART;TZID=America/New_York:20221207T070000
DTEND;TZID=America/New_York:20221207T083000
DTSTAMP:20260423T043336
CREATED:20221118T163316Z
LAST-MODIFIED:20221118T163316Z
UID:10000195-1670396400-1670401800@ocalabusinessleaders.com
SUMMARY:April Savarese with the Boys & Girls Club
DESCRIPTION:April Savarese from Boys & Girls Club of Marion County will be giving a 10-minute infomercial to the group. Join us for a great breakfast and learn more about her business.
URL:https://ocalabusinessleaders.com/event/april-savarese-with-the-boys-girls-club-2/
LOCATION:Ocala Golf Club\, 3130 E Silver Springs Blvd\, Ocala\, FL\, 34470\, United States
CATEGORIES:15-Minute Infomercials
ATTACH;FMTTYPE=image/jpeg:https://ocalabusinessleaders.com/wp-content/uploads/2022/09/BoyAndGirlsClub.jpg
END:VEVENT
END:VCALENDAR