BEGIN:VCALENDAR
VERSION:2.0
PRODID:-//Ocala Business Leaders - ECPv6.14.2//NONSGML v1.0//EN
CALSCALE:GREGORIAN
METHOD:PUBLISH
X-WR-CALNAME:Ocala Business Leaders
X-ORIGINAL-URL:https://ocalabusinessleaders.com
X-WR-CALDESC:Events for Ocala Business Leaders
REFRESH-INTERVAL;VALUE=DURATION:PT1H
X-Robots-Tag:noindex
X-PUBLISHED-TTL:PT1H
BEGIN:VTIMEZONE
TZID:America/New_York
BEGIN:DAYLIGHT
TZOFFSETFROM:-0500
TZOFFSETTO:-0400
TZNAME:EDT
DTSTART:20230312T070000
END:DAYLIGHT
BEGIN:STANDARD
TZOFFSETFROM:-0400
TZOFFSETTO:-0500
TZNAME:EST
DTSTART:20231105T060000
END:STANDARD
END:VTIMEZONE
BEGIN:VEVENT
DTSTART;TZID=America/New_York:20231115T063000
DTEND;TZID=America/New_York:20231115T080000
DTSTAMP:20260419T101936
CREATED:20230911T133435Z
LAST-MODIFIED:20230911T133501Z
UID:10000447-1700029800-1700035200@ocalabusinessleaders.com
SUMMARY:Weekly Networking Breakfast
DESCRIPTION:Join us at the Ocala Golf Club on Wednesdays for our weekly OBL fellowship breakfast. This is a great opportunity to meet the members of Ocala Business Leaders and introduce yourself to the community. Visitors welcome!
URL:https://ocalabusinessleaders.com/event/weekly-networking-breakfast-7-2/2023-11-15/
LOCATION:Ocala Golf Club\, 3130 E Silver Springs Blvd\, Ocala\, FL\, 34470\, United States
CATEGORIES:Fellowship Breakfast,Networking Event
ATTACH;FMTTYPE=image/jpeg:https://ocalabusinessleaders.com/wp-content/uploads/2022/03/breakfast-at-obl.jpg
END:VEVENT
BEGIN:VEVENT
DTSTART;TZID=America/New_York:20231115T070000
DTEND;TZID=America/New_York:20231115T070000
DTSTAMP:20260419T101936
CREATED:20231114T111233Z
LAST-MODIFIED:20231114T111346Z
UID:10000504-1700031600-1700031600@ocalabusinessleaders.com
SUMMARY:Voting on Officers
DESCRIPTION:Today we will be voting for the 2024 officers. Be sure to attend to cast your vote!
URL:https://ocalabusinessleaders.com/event/voting-on-officers/
LOCATION:FL
CATEGORIES:Special Event
ATTACH;FMTTYPE=image/jpeg:https://ocalabusinessleaders.com/wp-content/uploads/2023/11/your-vote-matters.jpg
END:VEVENT
BEGIN:VEVENT
DTSTART;TZID=America/New_York:20231115T070000
DTEND;TZID=America/New_York:20231115T073000
DTSTAMP:20260419T101936
CREATED:20230330T145531Z
LAST-MODIFIED:20231114T110843Z
UID:10000281-1700031600-1700033400@ocalabusinessleaders.com
SUMMARY:Russ Moore with PakMail
DESCRIPTION:Russ Moore from PakMail will be giving a 10-minute infomercial to the group. Join us for a great breakfast and learn more about his business.
URL:https://ocalabusinessleaders.com/event/russ-moore-with-pakmail/
LOCATION:Ocala Golf Club\, 3130 E Silver Springs Blvd\, Ocala\, FL\, 34470\, United States
CATEGORIES:15-Minute Infomercials
ATTACH;FMTTYPE=image/jpeg:https://ocalabusinessleaders.com/wp-content/uploads/2023/03/PakMail.jpg
END:VEVENT
BEGIN:VEVENT
DTSTART;TZID=America/New_York:20231115T070000
DTEND;TZID=America/New_York:20231115T200000
DTSTAMP:20260419T101936
CREATED:20231114T110748Z
LAST-MODIFIED:20231114T110748Z
UID:10000503-1700031600-1700078400@ocalabusinessleaders.com
SUMMARY:Updates From The Board
DESCRIPTION:Join us to hear the latest updates from the board and committees at Ocala Business Leaders.
URL:https://ocalabusinessleaders.com/event/updates-from-the-board-11/
LOCATION:Ocala Golf Club\, 3130 E Silver Springs Blvd\, Ocala\, FL\, 34470\, United States
CATEGORIES:Board Updates
ATTACH;FMTTYPE=image/jpeg:https://ocalabusinessleaders.com/wp-content/uploads/2022/05/UpdatesFromTheBoard.jpg
END:VEVENT
END:VCALENDAR