BEGIN:VCALENDAR
VERSION:2.0
PRODID:-//Ocala Business Leaders - ECPv6.14.2//NONSGML v1.0//EN
CALSCALE:GREGORIAN
METHOD:PUBLISH
X-WR-CALNAME:Ocala Business Leaders
X-ORIGINAL-URL:https://ocalabusinessleaders.com
X-WR-CALDESC:Events for Ocala Business Leaders
REFRESH-INTERVAL;VALUE=DURATION:PT1H
X-Robots-Tag:noindex
X-PUBLISHED-TTL:PT1H
BEGIN:VTIMEZONE
TZID:America/New_York
BEGIN:DAYLIGHT
TZOFFSETFROM:-0500
TZOFFSETTO:-0400
TZNAME:EDT
DTSTART:20240310T070000
END:DAYLIGHT
BEGIN:STANDARD
TZOFFSETFROM:-0400
TZOFFSETTO:-0500
TZNAME:EST
DTSTART:20241103T060000
END:STANDARD
END:VTIMEZONE
BEGIN:VEVENT
DTSTART;TZID=America/New_York:20240103T070000
DTEND;TZID=America/New_York:20240103T083000
DTSTAMP:20260422T052722
CREATED:20231218T143857Z
LAST-MODIFIED:20231218T143858Z
UID:10000454-1704265200-1704270600@ocalabusinessleaders.com
SUMMARY:Weekly Networking Breakfast
DESCRIPTION:Join us at the Ocala Golf Club on Wednesdays for our weekly OBL fellowship breakfast. This is a great opportunity to meet the members of Ocala Business Leaders and introduce yourself to the community. Visitors welcome!
URL:https://ocalabusinessleaders.com/event/weekly-networking-breakfast-7-2-3/
LOCATION:Ocala Golf Club\, 3130 E Silver Springs Blvd\, Ocala\, FL\, 34470\, United States
CATEGORIES:Fellowship Breakfast,Networking Event
ATTACH;FMTTYPE=image/jpeg:https://ocalabusinessleaders.com/wp-content/uploads/2022/03/breakfast-at-obl.jpg
END:VEVENT
BEGIN:VEVENT
DTSTART;TZID=America/New_York:20240103T073000
DTEND;TZID=America/New_York:20240103T083000
DTSTAMP:20260422T052722
CREATED:20240103T115613Z
LAST-MODIFIED:20240103T115613Z
UID:10000585-1704267000-1704270600@ocalabusinessleaders.com
SUMMARY:Jerry Abis with The Fun-Gis
DESCRIPTION:Jerry Abis from The Fun-Gi’s will be giving a 10-minute infomercial to the group. Join us for a great breakfast and learn more about his business.
URL:https://ocalabusinessleaders.com/event/jerry-abis-with-the-fun-gis-3/
LOCATION:Ocala Golf Club\, 3130 E Silver Springs Blvd\, Ocala\, FL\, 34470\, United States
CATEGORIES:15-Minute Infomercials
ATTACH;FMTTYPE=image/jpeg:https://ocalabusinessleaders.com/wp-content/uploads/2023/03/FunGis.jpg
END:VEVENT
BEGIN:VEVENT
DTSTART;TZID=America/New_York:20240110T063000
DTEND;TZID=America/New_York:20240110T073000
DTSTAMP:20260422T052722
CREATED:20240103T144025Z
LAST-MODIFIED:20240501T130857Z
UID:10000613-1704868200-1704871800@ocalabusinessleaders.com
SUMMARY:Weekly Networking Breakfast
DESCRIPTION:Join us at the Ocala Golf Club on Wednesdays for our weekly OBL fellowship breakfast. This is a great opportunity to meet the members of Ocala Business Leaders and introduce yourself to the community. Breakfast is starts at 6:30 AM and our meeting begins at 7:30. Visitors welcome!
URL:https://ocalabusinessleaders.com/event/weekly-networking-breakfast-7-2-3-2/2024-01-10/
LOCATION:Ocala Golf Club\, 3130 E Silver Springs Blvd\, Ocala\, FL\, 34470\, United States
CATEGORIES:Fellowship Breakfast,Networking Event
ATTACH;FMTTYPE=image/jpeg:https://ocalabusinessleaders.com/wp-content/uploads/2022/03/breakfast-at-obl.jpg
END:VEVENT
BEGIN:VEVENT
DTSTART;TZID=America/New_York:20240110T073000
DTEND;TZID=America/New_York:20240110T083000
DTSTAMP:20260422T052722
CREATED:20231218T204737Z
LAST-MODIFIED:20231218T204737Z
UID:10000587-1704871800-1704875400@ocalabusinessleaders.com
SUMMARY:Steve Shives with Runaway Campers
DESCRIPTION:Steve Shives from Runaway Campers will be giving a 10-minute infomercial to the group. Join us for a great breakfast and learn more about his business.
URL:https://ocalabusinessleaders.com/event/steve-shives-with-runaway-campers/
LOCATION:Ocala Golf Club\, 3130 E Silver Springs Blvd\, Ocala\, FL\, 34470\, United States
CATEGORIES:15-Minute Infomercials
ATTACH;FMTTYPE=image/jpeg:https://ocalabusinessleaders.com/wp-content/uploads/2023/12/RunawayCampers.jpg
END:VEVENT
BEGIN:VEVENT
DTSTART;TZID=America/New_York:20240117T063000
DTEND;TZID=America/New_York:20240117T073000
DTSTAMP:20260422T052722
CREATED:20240103T144025Z
LAST-MODIFIED:20240501T130857Z
UID:10000614-1705473000-1705476600@ocalabusinessleaders.com
SUMMARY:Weekly Networking Breakfast
DESCRIPTION:Join us at the Ocala Golf Club on Wednesdays for our weekly OBL fellowship breakfast. This is a great opportunity to meet the members of Ocala Business Leaders and introduce yourself to the community. Breakfast is starts at 6:30 AM and our meeting begins at 7:30. Visitors welcome!
URL:https://ocalabusinessleaders.com/event/weekly-networking-breakfast-7-2-3-2/2024-01-17/
LOCATION:Ocala Golf Club\, 3130 E Silver Springs Blvd\, Ocala\, FL\, 34470\, United States
CATEGORIES:Fellowship Breakfast,Networking Event
ATTACH;FMTTYPE=image/jpeg:https://ocalabusinessleaders.com/wp-content/uploads/2022/03/breakfast-at-obl.jpg
END:VEVENT
BEGIN:VEVENT
DTSTART;TZID=America/New_York:20240117T073000
DTEND;TZID=America/New_York:20240117T083000
DTSTAMP:20260422T052722
CREATED:20230718T142834Z
LAST-MODIFIED:20240103T143813Z
UID:10000319-1705476600-1705480200@ocalabusinessleaders.com
SUMMARY:Debra Jenkis with Bird Insurance Services\, LLC
DESCRIPTION:Debra Jenkis from Bird Insurance Services\, LLC will be giving a 15-minute infomercial to the group. Join us for a great breakfast and learn more about her business.
URL:https://ocalabusinessleaders.com/event/debra-jenkis-with-bird-insurance-services-llc/
LOCATION:Ocala Golf Club\, 3130 E Silver Springs Blvd\, Ocala\, FL\, 34470\, United States
CATEGORIES:15-Minute Infomercials
ATTACH;FMTTYPE=image/jpeg:https://ocalabusinessleaders.com/wp-content/uploads/2023/07/bird-insurance-ocala.jpg
END:VEVENT
BEGIN:VEVENT
DTSTART;TZID=America/New_York:20240124T063000
DTEND;TZID=America/New_York:20240124T073000
DTSTAMP:20260422T052722
CREATED:20240103T144025Z
LAST-MODIFIED:20240501T130857Z
UID:10000615-1706077800-1706081400@ocalabusinessleaders.com
SUMMARY:Weekly Networking Breakfast
DESCRIPTION:Join us at the Ocala Golf Club on Wednesdays for our weekly OBL fellowship breakfast. This is a great opportunity to meet the members of Ocala Business Leaders and introduce yourself to the community. Breakfast is starts at 6:30 AM and our meeting begins at 7:30. Visitors welcome!
URL:https://ocalabusinessleaders.com/event/weekly-networking-breakfast-7-2-3-2/2024-01-24/
LOCATION:Ocala Golf Club\, 3130 E Silver Springs Blvd\, Ocala\, FL\, 34470\, United States
CATEGORIES:Fellowship Breakfast,Networking Event
ATTACH;FMTTYPE=image/jpeg:https://ocalabusinessleaders.com/wp-content/uploads/2022/03/breakfast-at-obl.jpg
END:VEVENT
BEGIN:VEVENT
DTSTART;TZID=America/New_York:20240124T073000
DTEND;TZID=America/New_York:20240124T083000
DTSTAMP:20260422T052722
CREATED:20240119T164818Z
LAST-MODIFIED:20240119T164818Z
UID:10000588-1706081400-1706085000@ocalabusinessleaders.com
SUMMARY:Connie Pendleton with Ocala Business Brokers
DESCRIPTION:Connie Pendleton from Ocala Business Brokers will be giving a 15-minute infomercial to the group. Join us for a great breakfast and learn more about her business.
URL:https://ocalabusinessleaders.com/event/connie-pendleton-with-ocala-business-brokers/
LOCATION:Ocala Golf Club\, 3130 E Silver Springs Blvd\, Ocala\, FL\, 34470\, United States
CATEGORIES:15-Minute Infomercials
ATTACH;FMTTYPE=image/jpeg:https://ocalabusinessleaders.com/wp-content/uploads/2024/01/OcalaBusinessBrokers.jpg
END:VEVENT
BEGIN:VEVENT
DTSTART;TZID=America/New_York:20240126T180000
DTEND;TZID=America/New_York:20240126T210000
DTSTAMP:20260422T052722
CREATED:20240119T171911Z
LAST-MODIFIED:20240119T173125Z
UID:10000589-1706292000-1706302800@ocalabusinessleaders.com
SUMMARY:Officer Induction Banquet
DESCRIPTION:The Ocala Business Leaders’ Officer Induction Banquet \nThe event will be held from 6pm – 9 pm\, on January 26th at the Brick City Center for the Arts in Downtown Ocala – 23 SW Broadway Street\, Ocala\, FL 34471. \nDinner is being provided Piesanos’ catering.\nBeer and wine will be available.\nBusiness casual attire is suggested. \n***This is an OBL members-only event – An admission ticket is required***
URL:https://ocalabusinessleaders.com/event/2024-officer-induction-banquet/
LOCATION:Brick City Center for the Arts\, 23 SW Broadway Street\, Ocala\, 34471\, United States
CATEGORIES:Special Event
ATTACH;FMTTYPE=image/jpeg:https://ocalabusinessleaders.com/wp-content/uploads/2024/01/2024OfficerInductionBanquet.jpg
END:VEVENT
BEGIN:VEVENT
DTSTART;TZID=America/New_York:20240131T063000
DTEND;TZID=America/New_York:20240131T073000
DTSTAMP:20260422T052722
CREATED:20240103T144025Z
LAST-MODIFIED:20240501T130857Z
UID:10000616-1706682600-1706686200@ocalabusinessleaders.com
SUMMARY:Weekly Networking Breakfast
DESCRIPTION:Join us at the Ocala Golf Club on Wednesdays for our weekly OBL fellowship breakfast. This is a great opportunity to meet the members of Ocala Business Leaders and introduce yourself to the community. Breakfast is starts at 6:30 AM and our meeting begins at 7:30. Visitors welcome!
URL:https://ocalabusinessleaders.com/event/weekly-networking-breakfast-7-2-3-2/2024-01-31/
LOCATION:Ocala Golf Club\, 3130 E Silver Springs Blvd\, Ocala\, FL\, 34470\, United States
CATEGORIES:Fellowship Breakfast,Networking Event
ATTACH;FMTTYPE=image/jpeg:https://ocalabusinessleaders.com/wp-content/uploads/2022/03/breakfast-at-obl.jpg
END:VEVENT
END:VCALENDAR