BEGIN:VCALENDAR
VERSION:2.0
PRODID:-//Ocala Business Leaders - ECPv6.14.2//NONSGML v1.0//EN
CALSCALE:GREGORIAN
METHOD:PUBLISH
X-ORIGINAL-URL:https://ocalabusinessleaders.com
X-WR-CALDESC:Events for Ocala Business Leaders
REFRESH-INTERVAL;VALUE=DURATION:PT1H
X-Robots-Tag:noindex
X-PUBLISHED-TTL:PT1H
BEGIN:VTIMEZONE
TZID:America/New_York
BEGIN:DAYLIGHT
TZOFFSETFROM:-0500
TZOFFSETTO:-0400
TZNAME:EDT
DTSTART:20240310T070000
END:DAYLIGHT
BEGIN:STANDARD
TZOFFSETFROM:-0400
TZOFFSETTO:-0500
TZNAME:EST
DTSTART:20241103T060000
END:STANDARD
END:VTIMEZONE
BEGIN:VEVENT
DTSTART;TZID=America/New_York:20240515T063000
DTEND;TZID=America/New_York:20240515T073000
DTSTAMP:20260419T091156
CREATED:20240103T144025Z
LAST-MODIFIED:20240501T130857Z
UID:10000631-1715754600-1715758200@ocalabusinessleaders.com
SUMMARY:Weekly Networking Breakfast
DESCRIPTION:Join us at the Ocala Golf Club on Wednesdays for our weekly OBL fellowship breakfast. This is a great opportunity to meet the members of Ocala Business Leaders and introduce yourself to the community. Breakfast is starts at 6:30 AM and our meeting begins at 7:30. Visitors welcome!
URL:https://ocalabusinessleaders.com/event/weekly-networking-breakfast-7-2-3-2/2024-05-15/
LOCATION:Ocala Golf Club\, 3130 E Silver Springs Blvd\, Ocala\, FL\, 34470\, United States
CATEGORIES:Fellowship Breakfast,Networking Event
ATTACH;FMTTYPE=image/jpeg:https://ocalabusinessleaders.com/wp-content/uploads/2022/03/breakfast-at-obl.jpg
END:VEVENT
BEGIN:VEVENT
DTSTART;TZID=America/New_York:20240515T070000
DTEND;TZID=America/New_York:20240515T203000
DTSTAMP:20260419T091156
CREATED:20240222T204050Z
LAST-MODIFIED:20240506T192056Z
UID:10000601-1715756400-1715805000@ocalabusinessleaders.com
SUMMARY:Updates From The Board
DESCRIPTION:Join us to hear the latest updates from the board and committees at Ocala Business Leaders.
URL:https://ocalabusinessleaders.com/event/updates-from-the-board-14/
LOCATION:Ocala Golf Club\, 3130 E Silver Springs Blvd\, Ocala\, FL\, 34470\, United States
CATEGORIES:Board Updates
ATTACH;FMTTYPE=image/jpeg:https://ocalabusinessleaders.com/wp-content/uploads/2022/05/UpdatesFromTheBoard.jpg
END:VEVENT
BEGIN:VEVENT
DTSTART;TZID=America/New_York:20240515T073000
DTEND;TZID=America/New_York:20240515T083000
DTSTAMP:20260419T091156
CREATED:20240419T134903Z
LAST-MODIFIED:20240419T134903Z
UID:10000612-1715758200-1715761800@ocalabusinessleaders.com
SUMMARY:VOCAL
DESCRIPTION:Join us for breakfast and a presentation from VOCAL. \nVOCAL is a 501(c)3 non-profit focused on solving the homeless pet problem in Marion County.  They have a multipronged approach and operate 2 core programs to meet the needs of pets in our community – a Community Clinic & Resource Center and Pet Food Bank.
URL:https://ocalabusinessleaders.com/event/vocal/
LOCATION:Ocala Golf Club\, 3130 E Silver Springs Blvd\, Ocala\, FL\, 34470\, United States
CATEGORIES:Guest Speaker
ATTACH;FMTTYPE=image/jpeg:https://ocalabusinessleaders.com/wp-content/uploads/2024/04/VOCAL.jpg
END:VEVENT
END:VCALENDAR