BEGIN:VCALENDAR
VERSION:2.0
PRODID:-//Ocala Business Leaders - ECPv6.14.2//NONSGML v1.0//EN
CALSCALE:GREGORIAN
METHOD:PUBLISH
X-ORIGINAL-URL:https://ocalabusinessleaders.com
X-WR-CALDESC:Events for Ocala Business Leaders
REFRESH-INTERVAL;VALUE=DURATION:PT1H
X-Robots-Tag:noindex
X-PUBLISHED-TTL:PT1H
BEGIN:VTIMEZONE
TZID:America/New_York
BEGIN:DAYLIGHT
TZOFFSETFROM:-0500
TZOFFSETTO:-0400
TZNAME:EDT
DTSTART:20240310T070000
END:DAYLIGHT
BEGIN:STANDARD
TZOFFSETFROM:-0400
TZOFFSETTO:-0500
TZNAME:EST
DTSTART:20241103T060000
END:STANDARD
END:VTIMEZONE
BEGIN:VEVENT
DTSTART;TZID=America/New_York:20240911T063000
DTEND;TZID=America/New_York:20240911T083000
DTSTAMP:20260421T190519
CREATED:20240520T143435Z
LAST-MODIFIED:20241223T173733Z
UID:10000677-1726036200-1726043400@ocalabusinessleaders.com
SUMMARY:Weekly Networking Breakfast
DESCRIPTION:Ocala Business Leaders will meet at the Ocala Police Department Community Room on Wednesdays\, June & July\, for our weekly OBL fellowship breakfast. This is a great opportunity to meet the members of Ocala Business Leaders and introduce yourself to the community. Breakfast starts at 6:30 AM\, and our meeting begins at 7:30. Visitors welcome!
URL:https://ocalabusinessleaders.com/event/weekly-networking-breakfast-7-2-3-2-10/2024-09-11/
LOCATION:Ocala Golf Club\, 3130 E Silver Springs Blvd\, Ocala\, FL\, 34470\, United States
CATEGORIES:Fellowship Breakfast,Networking Event
ATTACH;FMTTYPE=image/jpeg:https://ocalabusinessleaders.com/wp-content/uploads/2022/03/breakfast-at-obl.jpg
END:VEVENT
BEGIN:VEVENT
DTSTART;TZID=America/New_York:20240911T063000
DTEND;TZID=America/New_York:20240911T073000
DTSTAMP:20260421T190520
CREATED:20240103T144025Z
LAST-MODIFIED:20240501T130857Z
UID:10000648-1726036200-1726039800@ocalabusinessleaders.com
SUMMARY:Weekly Networking Breakfast
DESCRIPTION:Join us at the Ocala Golf Club on Wednesdays for our weekly OBL fellowship breakfast. This is a great opportunity to meet the members of Ocala Business Leaders and introduce yourself to the community. Breakfast is starts at 6:30 AM and our meeting begins at 7:30. Visitors welcome!
URL:https://ocalabusinessleaders.com/event/weekly-networking-breakfast-7-2-3-2/2024-09-11/
LOCATION:Ocala Golf Club\, 3130 E Silver Springs Blvd\, Ocala\, FL\, 34470\, United States
CATEGORIES:Fellowship Breakfast,Networking Event
ATTACH;FMTTYPE=image/jpeg:https://ocalabusinessleaders.com/wp-content/uploads/2022/03/breakfast-at-obl.jpg
END:VEVENT
BEGIN:VEVENT
DTSTART;TZID=America/New_York:20240904T073000
DTEND;TZID=America/New_York:20240904T083000
DTSTAMP:20260421T190520
CREATED:20240819T200238Z
LAST-MODIFIED:20240819T200238Z
UID:10000669-1725435000-1725438600@ocalabusinessleaders.com
SUMMARY:Lisa Jackson
DESCRIPTION:Lisa Jackson with Southland Home Inspections will give a 15-minute infomercial to the group. Join us for a great breakfast and learn more about her business.
URL:https://ocalabusinessleaders.com/event/lisa-jackson/
LOCATION:Ocala Golf Club\, 3130 E Silver Springs Blvd\, Ocala\, FL\, 34470\, United States
CATEGORIES:15-Minute Infomercials
ATTACH;FMTTYPE=image/jpeg:https://ocalabusinessleaders.com/wp-content/uploads/2024/08/SouthlandHomeInspections.jpg
END:VEVENT
BEGIN:VEVENT
DTSTART;TZID=America/New_York:20240904T063000
DTEND;TZID=America/New_York:20240904T083000
DTSTAMP:20260421T190520
CREATED:20240520T143435Z
LAST-MODIFIED:20241223T173733Z
UID:10000676-1725431400-1725438600@ocalabusinessleaders.com
SUMMARY:Weekly Networking Breakfast
DESCRIPTION:Ocala Business Leaders will meet at the Ocala Police Department Community Room on Wednesdays\, June & July\, for our weekly OBL fellowship breakfast. This is a great opportunity to meet the members of Ocala Business Leaders and introduce yourself to the community. Breakfast starts at 6:30 AM\, and our meeting begins at 7:30. Visitors welcome!
URL:https://ocalabusinessleaders.com/event/weekly-networking-breakfast-7-2-3-2-10/2024-09-04/
LOCATION:Ocala Golf Club\, 3130 E Silver Springs Blvd\, Ocala\, FL\, 34470\, United States
CATEGORIES:Fellowship Breakfast,Networking Event
ATTACH;FMTTYPE=image/jpeg:https://ocalabusinessleaders.com/wp-content/uploads/2022/03/breakfast-at-obl.jpg
END:VEVENT
BEGIN:VEVENT
DTSTART;TZID=America/New_York:20240904T063000
DTEND;TZID=America/New_York:20240904T073000
DTSTAMP:20260421T190520
CREATED:20240103T144025Z
LAST-MODIFIED:20240501T130857Z
UID:10000647-1725431400-1725435000@ocalabusinessleaders.com
SUMMARY:Weekly Networking Breakfast
DESCRIPTION:Join us at the Ocala Golf Club on Wednesdays for our weekly OBL fellowship breakfast. This is a great opportunity to meet the members of Ocala Business Leaders and introduce yourself to the community. Breakfast is starts at 6:30 AM and our meeting begins at 7:30. Visitors welcome!
URL:https://ocalabusinessleaders.com/event/weekly-networking-breakfast-7-2-3-2/2024-09-04/
LOCATION:Ocala Golf Club\, 3130 E Silver Springs Blvd\, Ocala\, FL\, 34470\, United States
CATEGORIES:Fellowship Breakfast,Networking Event
ATTACH;FMTTYPE=image/jpeg:https://ocalabusinessleaders.com/wp-content/uploads/2022/03/breakfast-at-obl.jpg
END:VEVENT
BEGIN:VEVENT
DTSTART;TZID=America/New_York:20240828T073000
DTEND;TZID=America/New_York:20240828T083000
DTSTAMP:20260421T190520
CREATED:20240802T191626Z
LAST-MODIFIED:20240802T191626Z
UID:10000661-1724830200-1724833800@ocalabusinessleaders.com
SUMMARY:LifeSouth
DESCRIPTION:Join us for breakfast and a presentation from Haley Shoemaker with LifeSouth. \nLifeSouth is a non-profit community blood bank serving more than 150 hospitals in Alabama\, Florida\, Georgia and Tennessee. They are committed to meeting the blood supply needs of hospitals and their patients by providing the highest quality blood components and services. The LifeSouth team is dedicated to making sure the blood is there when you or your family member is in need.
URL:https://ocalabusinessleaders.com/event/lifesouth/
LOCATION:Ocala Golf Club\, 3130 E Silver Springs Blvd\, Ocala\, FL\, 34470\, United States
CATEGORIES:Guest Speaker
ATTACH;FMTTYPE=image/jpeg:https://ocalabusinessleaders.com/wp-content/uploads/2024/08/LifeSouth.jpg
END:VEVENT
BEGIN:VEVENT
DTSTART;TZID=America/New_York:20240828T063000
DTEND;TZID=America/New_York:20240828T083000
DTSTAMP:20260421T190520
CREATED:20240520T143435Z
LAST-MODIFIED:20241223T173733Z
UID:10000675-1724826600-1724833800@ocalabusinessleaders.com
SUMMARY:Weekly Networking Breakfast
DESCRIPTION:Ocala Business Leaders will meet at the Ocala Police Department Community Room on Wednesdays\, June & July\, for our weekly OBL fellowship breakfast. This is a great opportunity to meet the members of Ocala Business Leaders and introduce yourself to the community. Breakfast starts at 6:30 AM\, and our meeting begins at 7:30. Visitors welcome!
URL:https://ocalabusinessleaders.com/event/weekly-networking-breakfast-7-2-3-2-10/2024-08-28/
LOCATION:Ocala Golf Club\, 3130 E Silver Springs Blvd\, Ocala\, FL\, 34470\, United States
CATEGORIES:Fellowship Breakfast,Networking Event
ATTACH;FMTTYPE=image/jpeg:https://ocalabusinessleaders.com/wp-content/uploads/2022/03/breakfast-at-obl.jpg
END:VEVENT
BEGIN:VEVENT
DTSTART;TZID=America/New_York:20240828T063000
DTEND;TZID=America/New_York:20240828T073000
DTSTAMP:20260421T190520
CREATED:20240103T144025Z
LAST-MODIFIED:20240501T130857Z
UID:10000646-1724826600-1724830200@ocalabusinessleaders.com
SUMMARY:Weekly Networking Breakfast
DESCRIPTION:Join us at the Ocala Golf Club on Wednesdays for our weekly OBL fellowship breakfast. This is a great opportunity to meet the members of Ocala Business Leaders and introduce yourself to the community. Breakfast is starts at 6:30 AM and our meeting begins at 7:30. Visitors welcome!
URL:https://ocalabusinessleaders.com/event/weekly-networking-breakfast-7-2-3-2/2024-08-28/
LOCATION:Ocala Golf Club\, 3130 E Silver Springs Blvd\, Ocala\, FL\, 34470\, United States
CATEGORIES:Fellowship Breakfast,Networking Event
ATTACH;FMTTYPE=image/jpeg:https://ocalabusinessleaders.com/wp-content/uploads/2022/03/breakfast-at-obl.jpg
END:VEVENT
BEGIN:VEVENT
DTSTART;TZID=America/New_York:20240821T073000
DTEND;TZID=America/New_York:20240821T083000
DTSTAMP:20260421T190520
CREATED:20240802T172446Z
LAST-MODIFIED:20240802T172446Z
UID:10000660-1724225400-1724229000@ocalabusinessleaders.com
SUMMARY:Dealers Choice
DESCRIPTION:Join us for breakfast and a presentation from Bill Chapman with Dealers Choice. \nSince 1993\, Dealers Choice has delivered reliable support and essential materials to the local home improvement suppliers and lumberyards who help contractors and homeowners build their communities. With branch locations throughout the South and Midwest\, Dealers Choice has one of the largest inventories in the entire country.
URL:https://ocalabusinessleaders.com/event/dealers-choice/
LOCATION:Ocala Golf Club\, 3130 E Silver Springs Blvd\, Ocala\, FL\, 34470\, United States
CATEGORIES:Guest Speaker
ATTACH;FMTTYPE=image/jpeg:https://ocalabusinessleaders.com/wp-content/uploads/2024/08/DealersChoice.jpg
END:VEVENT
BEGIN:VEVENT
DTSTART;TZID=America/New_York:20240821T063000
DTEND;TZID=America/New_York:20240821T083000
DTSTAMP:20260421T190520
CREATED:20240520T143435Z
LAST-MODIFIED:20241223T173733Z
UID:10000674-1724221800-1724229000@ocalabusinessleaders.com
SUMMARY:Weekly Networking Breakfast
DESCRIPTION:Ocala Business Leaders will meet at the Ocala Police Department Community Room on Wednesdays\, June & July\, for our weekly OBL fellowship breakfast. This is a great opportunity to meet the members of Ocala Business Leaders and introduce yourself to the community. Breakfast starts at 6:30 AM\, and our meeting begins at 7:30. Visitors welcome!
URL:https://ocalabusinessleaders.com/event/weekly-networking-breakfast-7-2-3-2-10/2024-08-21/
LOCATION:Ocala Golf Club\, 3130 E Silver Springs Blvd\, Ocala\, FL\, 34470\, United States
CATEGORIES:Fellowship Breakfast,Networking Event
ATTACH;FMTTYPE=image/jpeg:https://ocalabusinessleaders.com/wp-content/uploads/2022/03/breakfast-at-obl.jpg
END:VEVENT
BEGIN:VEVENT
DTSTART;TZID=America/New_York:20240821T063000
DTEND;TZID=America/New_York:20240821T073000
DTSTAMP:20260421T190520
CREATED:20240103T144025Z
LAST-MODIFIED:20240501T130857Z
UID:10000645-1724221800-1724225400@ocalabusinessleaders.com
SUMMARY:Weekly Networking Breakfast
DESCRIPTION:Join us at the Ocala Golf Club on Wednesdays for our weekly OBL fellowship breakfast. This is a great opportunity to meet the members of Ocala Business Leaders and introduce yourself to the community. Breakfast is starts at 6:30 AM and our meeting begins at 7:30. Visitors welcome!
URL:https://ocalabusinessleaders.com/event/weekly-networking-breakfast-7-2-3-2/2024-08-21/
LOCATION:Ocala Golf Club\, 3130 E Silver Springs Blvd\, Ocala\, FL\, 34470\, United States
CATEGORIES:Fellowship Breakfast,Networking Event
ATTACH;FMTTYPE=image/jpeg:https://ocalabusinessleaders.com/wp-content/uploads/2022/03/breakfast-at-obl.jpg
END:VEVENT
BEGIN:VEVENT
DTSTART;TZID=America/New_York:20240814T073000
DTEND;TZID=America/New_York:20240814T083000
DTSTAMP:20260421T190520
CREATED:20240802T171349Z
LAST-MODIFIED:20240814T210408Z
UID:10000659-1723620600-1723624200@ocalabusinessleaders.com
SUMMARY:Updates From The Board
DESCRIPTION:Join us to hear the latest updates from the board and committees at Ocala Business Leaders.
URL:https://ocalabusinessleaders.com/event/updates-from-the-board-17/
LOCATION:Ocala Golf Club\, 3130 E Silver Springs Blvd\, Ocala\, FL\, 34470\, United States
CATEGORIES:Board Updates
ATTACH;FMTTYPE=image/jpeg:https://ocalabusinessleaders.com/wp-content/uploads/2022/05/UpdatesFromTheBoard.jpg
END:VEVENT
BEGIN:VEVENT
DTSTART;TZID=America/New_York:20240814T063000
DTEND;TZID=America/New_York:20240814T083000
DTSTAMP:20260421T190520
CREATED:20240520T143435Z
LAST-MODIFIED:20241223T173733Z
UID:10000673-1723617000-1723624200@ocalabusinessleaders.com
SUMMARY:Weekly Networking Breakfast
DESCRIPTION:Ocala Business Leaders will meet at the Ocala Police Department Community Room on Wednesdays\, June & July\, for our weekly OBL fellowship breakfast. This is a great opportunity to meet the members of Ocala Business Leaders and introduce yourself to the community. Breakfast starts at 6:30 AM\, and our meeting begins at 7:30. Visitors welcome!
URL:https://ocalabusinessleaders.com/event/weekly-networking-breakfast-7-2-3-2-10/2024-08-14/
LOCATION:Ocala Golf Club\, 3130 E Silver Springs Blvd\, Ocala\, FL\, 34470\, United States
CATEGORIES:Fellowship Breakfast,Networking Event
ATTACH;FMTTYPE=image/jpeg:https://ocalabusinessleaders.com/wp-content/uploads/2022/03/breakfast-at-obl.jpg
END:VEVENT
BEGIN:VEVENT
DTSTART;TZID=America/New_York:20240814T063000
DTEND;TZID=America/New_York:20240814T073000
DTSTAMP:20260421T190520
CREATED:20240103T144025Z
LAST-MODIFIED:20240501T130857Z
UID:10000644-1723617000-1723620600@ocalabusinessleaders.com
SUMMARY:Weekly Networking Breakfast
DESCRIPTION:Join us at the Ocala Golf Club on Wednesdays for our weekly OBL fellowship breakfast. This is a great opportunity to meet the members of Ocala Business Leaders and introduce yourself to the community. Breakfast is starts at 6:30 AM and our meeting begins at 7:30. Visitors welcome!
URL:https://ocalabusinessleaders.com/event/weekly-networking-breakfast-7-2-3-2/2024-08-14/
LOCATION:Ocala Golf Club\, 3130 E Silver Springs Blvd\, Ocala\, FL\, 34470\, United States
CATEGORIES:Fellowship Breakfast,Networking Event
ATTACH;FMTTYPE=image/jpeg:https://ocalabusinessleaders.com/wp-content/uploads/2022/03/breakfast-at-obl.jpg
END:VEVENT
BEGIN:VEVENT
DTSTART;TZID=America/New_York:20240807T073000
DTEND;TZID=America/New_York:20240807T083000
DTSTAMP:20260421T190520
CREATED:20240802T171320Z
LAST-MODIFIED:20240802T171320Z
UID:10000658-1723015800-1723019400@ocalabusinessleaders.com
SUMMARY:Ocala Recreation and Parks
DESCRIPTION:Join us for breakfast and a presentation from Bill Rodriguez with Ocala Recreation and Parks. \nTheir promise: “At Ocala Recreation and Parks we endeavor to ensure the memories you make with us here today will be treasured stories you share with your family\, friends\, children and grandchildren tomorrow.”
URL:https://ocalabusinessleaders.com/event/ocala-recreation-and-parks/
LOCATION:Ocala Golf Club\, 3130 E Silver Springs Blvd\, Ocala\, FL\, 34470\, United States
CATEGORIES:Guest Speaker
ATTACH;FMTTYPE=image/jpeg:https://ocalabusinessleaders.com/wp-content/uploads/2024/08/OcalaRecreationAndParks.jpg
END:VEVENT
BEGIN:VEVENT
DTSTART;TZID=America/New_York:20240807T063000
DTEND;TZID=America/New_York:20240807T083000
DTSTAMP:20260421T190520
CREATED:20240520T143435Z
LAST-MODIFIED:20241223T173733Z
UID:10000672-1723012200-1723019400@ocalabusinessleaders.com
SUMMARY:Weekly Networking Breakfast
DESCRIPTION:Ocala Business Leaders will meet at the Ocala Police Department Community Room on Wednesdays\, June & July\, for our weekly OBL fellowship breakfast. This is a great opportunity to meet the members of Ocala Business Leaders and introduce yourself to the community. Breakfast starts at 6:30 AM\, and our meeting begins at 7:30. Visitors welcome!
URL:https://ocalabusinessleaders.com/event/weekly-networking-breakfast-7-2-3-2-10/2024-08-07/
LOCATION:Ocala Golf Club\, 3130 E Silver Springs Blvd\, Ocala\, FL\, 34470\, United States
CATEGORIES:Fellowship Breakfast,Networking Event
ATTACH;FMTTYPE=image/jpeg:https://ocalabusinessleaders.com/wp-content/uploads/2022/03/breakfast-at-obl.jpg
END:VEVENT
BEGIN:VEVENT
DTSTART;TZID=America/New_York:20240807T063000
DTEND;TZID=America/New_York:20240807T073000
DTSTAMP:20260421T190520
CREATED:20240103T144025Z
LAST-MODIFIED:20240501T130857Z
UID:10000643-1723012200-1723015800@ocalabusinessleaders.com
SUMMARY:Weekly Networking Breakfast
DESCRIPTION:Join us at the Ocala Golf Club on Wednesdays for our weekly OBL fellowship breakfast. This is a great opportunity to meet the members of Ocala Business Leaders and introduce yourself to the community. Breakfast is starts at 6:30 AM and our meeting begins at 7:30. Visitors welcome!
URL:https://ocalabusinessleaders.com/event/weekly-networking-breakfast-7-2-3-2/2024-08-07/
LOCATION:Ocala Golf Club\, 3130 E Silver Springs Blvd\, Ocala\, FL\, 34470\, United States
CATEGORIES:Fellowship Breakfast,Networking Event
ATTACH;FMTTYPE=image/jpeg:https://ocalabusinessleaders.com/wp-content/uploads/2022/03/breakfast-at-obl.jpg
END:VEVENT
BEGIN:VEVENT
DTSTART;TZID=America/New_York:20240731T063000
DTEND;TZID=America/New_York:20240731T083000
DTSTAMP:20260421T190520
CREATED:20240520T143435Z
LAST-MODIFIED:20241223T173733Z
UID:10000671-1722407400-1722414600@ocalabusinessleaders.com
SUMMARY:Weekly Networking Breakfast
DESCRIPTION:Ocala Business Leaders will meet at the Ocala Police Department Community Room on Wednesdays\, June & July\, for our weekly OBL fellowship breakfast. This is a great opportunity to meet the members of Ocala Business Leaders and introduce yourself to the community. Breakfast starts at 6:30 AM\, and our meeting begins at 7:30. Visitors welcome!
URL:https://ocalabusinessleaders.com/event/weekly-networking-breakfast-7-2-3-2-10/2024-07-31/
LOCATION:Ocala Golf Club\, 3130 E Silver Springs Blvd\, Ocala\, FL\, 34470\, United States
CATEGORIES:Fellowship Breakfast,Networking Event
ATTACH;FMTTYPE=image/jpeg:https://ocalabusinessleaders.com/wp-content/uploads/2022/03/breakfast-at-obl.jpg
END:VEVENT
BEGIN:VEVENT
DTSTART;TZID=America/New_York:20240724T063000
DTEND;TZID=America/New_York:20240724T083000
DTSTAMP:20260421T190520
CREATED:20240520T143435Z
LAST-MODIFIED:20241223T173733Z
UID:10000641-1721802600-1721809800@ocalabusinessleaders.com
SUMMARY:Weekly Networking Breakfast
DESCRIPTION:Ocala Business Leaders will meet at the Ocala Police Department Community Room on Wednesdays\, June & July\, for our weekly OBL fellowship breakfast. This is a great opportunity to meet the members of Ocala Business Leaders and introduce yourself to the community. Breakfast starts at 6:30 AM\, and our meeting begins at 7:30. Visitors welcome!
URL:https://ocalabusinessleaders.com/event/weekly-networking-breakfast-7-2-3-2-10/2024-07-24/
LOCATION:Ocala Golf Club\, 3130 E Silver Springs Blvd\, Ocala\, FL\, 34470\, United States
CATEGORIES:Fellowship Breakfast,Networking Event
ATTACH;FMTTYPE=image/jpeg:https://ocalabusinessleaders.com/wp-content/uploads/2022/03/breakfast-at-obl.jpg
END:VEVENT
BEGIN:VEVENT
DTSTART;TZID=America/New_York:20240529T063000
DTEND;TZID=America/New_York:20240529T073000
DTSTAMP:20260421T190520
CREATED:20240520T142531Z
LAST-MODIFIED:20240520T142609Z
UID:10000633-1716964200-1716967800@ocalabusinessleaders.com
SUMMARY:Weekly Networking Breakfast
DESCRIPTION:Join us at the Ocala Golf Club on Wednesdays for our weekly OBL fellowship breakfast. This is a great opportunity to meet the members of Ocala Business Leaders and introduce yourself to the community. Breakfast is starts at 6:30 AM and our meeting begins at 7:30. Visitors welcome!
URL:https://ocalabusinessleaders.com/event/weekly-networking-breakfast-7-2-3-2-2/
LOCATION:Ocala Golf Club\, 3130 E Silver Springs Blvd\, Ocala\, FL\, 34470\, United States
CATEGORIES:Fellowship Breakfast,Networking Event
ATTACH;FMTTYPE=image/jpeg:https://ocalabusinessleaders.com/wp-content/uploads/2022/03/breakfast-at-obl.jpg
END:VEVENT
BEGIN:VEVENT
DTSTART;TZID=America/New_York:20240522T063000
DTEND;TZID=America/New_York:20240522T073000
DTSTAMP:20260421T190520
CREATED:20240103T144025Z
LAST-MODIFIED:20240501T130857Z
UID:10000632-1716359400-1716363000@ocalabusinessleaders.com
SUMMARY:Weekly Networking Breakfast
DESCRIPTION:Join us at the Ocala Golf Club on Wednesdays for our weekly OBL fellowship breakfast. This is a great opportunity to meet the members of Ocala Business Leaders and introduce yourself to the community. Breakfast is starts at 6:30 AM and our meeting begins at 7:30. Visitors welcome!
URL:https://ocalabusinessleaders.com/event/weekly-networking-breakfast-7-2-3-2/2024-05-22/
LOCATION:Ocala Golf Club\, 3130 E Silver Springs Blvd\, Ocala\, FL\, 34470\, United States
CATEGORIES:Fellowship Breakfast,Networking Event
ATTACH;FMTTYPE=image/jpeg:https://ocalabusinessleaders.com/wp-content/uploads/2022/03/breakfast-at-obl.jpg
END:VEVENT
BEGIN:VEVENT
DTSTART;TZID=America/New_York:20240515T073000
DTEND;TZID=America/New_York:20240515T083000
DTSTAMP:20260421T190520
CREATED:20240419T134903Z
LAST-MODIFIED:20240419T134903Z
UID:10000612-1715758200-1715761800@ocalabusinessleaders.com
SUMMARY:VOCAL
DESCRIPTION:Join us for breakfast and a presentation from VOCAL. \nVOCAL is a 501(c)3 non-profit focused on solving the homeless pet problem in Marion County.  They have a multipronged approach and operate 2 core programs to meet the needs of pets in our community – a Community Clinic & Resource Center and Pet Food Bank.
URL:https://ocalabusinessleaders.com/event/vocal/
LOCATION:Ocala Golf Club\, 3130 E Silver Springs Blvd\, Ocala\, FL\, 34470\, United States
CATEGORIES:Guest Speaker
ATTACH;FMTTYPE=image/jpeg:https://ocalabusinessleaders.com/wp-content/uploads/2024/04/VOCAL.jpg
END:VEVENT
BEGIN:VEVENT
DTSTART;TZID=America/New_York:20240515T070000
DTEND;TZID=America/New_York:20240515T203000
DTSTAMP:20260421T190520
CREATED:20240222T204050Z
LAST-MODIFIED:20240506T192056Z
UID:10000601-1715756400-1715805000@ocalabusinessleaders.com
SUMMARY:Updates From The Board
DESCRIPTION:Join us to hear the latest updates from the board and committees at Ocala Business Leaders.
URL:https://ocalabusinessleaders.com/event/updates-from-the-board-14/
LOCATION:Ocala Golf Club\, 3130 E Silver Springs Blvd\, Ocala\, FL\, 34470\, United States
CATEGORIES:Board Updates
ATTACH;FMTTYPE=image/jpeg:https://ocalabusinessleaders.com/wp-content/uploads/2022/05/UpdatesFromTheBoard.jpg
END:VEVENT
BEGIN:VEVENT
DTSTART;TZID=America/New_York:20240515T063000
DTEND;TZID=America/New_York:20240515T073000
DTSTAMP:20260421T190520
CREATED:20240103T144025Z
LAST-MODIFIED:20240501T130857Z
UID:10000631-1715754600-1715758200@ocalabusinessleaders.com
SUMMARY:Weekly Networking Breakfast
DESCRIPTION:Join us at the Ocala Golf Club on Wednesdays for our weekly OBL fellowship breakfast. This is a great opportunity to meet the members of Ocala Business Leaders and introduce yourself to the community. Breakfast is starts at 6:30 AM and our meeting begins at 7:30. Visitors welcome!
URL:https://ocalabusinessleaders.com/event/weekly-networking-breakfast-7-2-3-2/2024-05-15/
LOCATION:Ocala Golf Club\, 3130 E Silver Springs Blvd\, Ocala\, FL\, 34470\, United States
CATEGORIES:Fellowship Breakfast,Networking Event
ATTACH;FMTTYPE=image/jpeg:https://ocalabusinessleaders.com/wp-content/uploads/2022/03/breakfast-at-obl.jpg
END:VEVENT
BEGIN:VEVENT
DTSTART;TZID=America/New_York:20240508T073000
DTEND;TZID=America/New_York:20240508T083000
DTSTAMP:20260421T190520
CREATED:20240325T174809Z
LAST-MODIFIED:20240506T192131Z
UID:10000606-1715153400-1715157000@ocalabusinessleaders.com
SUMMARY:Kayla Stephens with Miller & Sons Plumbing
DESCRIPTION:Kayla Stephens from Miller & Sons Plumbing will be giving a 15-minute infomercial to the group. Join us for a great breakfast and learn more about her business.
URL:https://ocalabusinessleaders.com/event/kayla-stephens-with-miller-sons-plumbing-2/
LOCATION:Ocala Golf Club\, 3130 E Silver Springs Blvd\, Ocala\, FL\, 34470\, United States
CATEGORIES:15-Minute Infomercials
ATTACH;FMTTYPE=image/jpeg:https://ocalabusinessleaders.com/wp-content/uploads/2023/09/MillerAndSonsPlumbing.jpg
END:VEVENT
BEGIN:VEVENT
DTSTART;TZID=America/New_York:20240508T063000
DTEND;TZID=America/New_York:20240508T073000
DTSTAMP:20260421T190520
CREATED:20240103T144025Z
LAST-MODIFIED:20240501T130857Z
UID:10000630-1715149800-1715153400@ocalabusinessleaders.com
SUMMARY:Weekly Networking Breakfast
DESCRIPTION:Join us at the Ocala Golf Club on Wednesdays for our weekly OBL fellowship breakfast. This is a great opportunity to meet the members of Ocala Business Leaders and introduce yourself to the community. Breakfast is starts at 6:30 AM and our meeting begins at 7:30. Visitors welcome!
URL:https://ocalabusinessleaders.com/event/weekly-networking-breakfast-7-2-3-2/2024-05-08/
LOCATION:Ocala Golf Club\, 3130 E Silver Springs Blvd\, Ocala\, FL\, 34470\, United States
CATEGORIES:Fellowship Breakfast,Networking Event
ATTACH;FMTTYPE=image/jpeg:https://ocalabusinessleaders.com/wp-content/uploads/2022/03/breakfast-at-obl.jpg
END:VEVENT
BEGIN:VEVENT
DTSTART;TZID=America/New_York:20240501T073000
DTEND;TZID=America/New_York:20240501T083000
DTSTAMP:20260421T190520
CREATED:20240419T133242Z
LAST-MODIFIED:20240419T133242Z
UID:10000611-1714548600-1714552200@ocalabusinessleaders.com
SUMMARY:NFIB
DESCRIPTION:Mark Schell from the National Federation for Independent Business will be presenting.
URL:https://ocalabusinessleaders.com/event/nfib/
LOCATION:Ocala Golf Club\, 3130 E Silver Springs Blvd\, Ocala\, FL\, 34470\, United States
CATEGORIES:Guest Speaker
ATTACH;FMTTYPE=image/jpeg:https://ocalabusinessleaders.com/wp-content/uploads/2024/04/NFIB.jpg
END:VEVENT
BEGIN:VEVENT
DTSTART;TZID=America/New_York:20240501T063000
DTEND;TZID=America/New_York:20240501T073000
DTSTAMP:20260421T190520
CREATED:20240103T144025Z
LAST-MODIFIED:20240501T130857Z
UID:10000629-1714545000-1714548600@ocalabusinessleaders.com
SUMMARY:Weekly Networking Breakfast
DESCRIPTION:Join us at the Ocala Golf Club on Wednesdays for our weekly OBL fellowship breakfast. This is a great opportunity to meet the members of Ocala Business Leaders and introduce yourself to the community. Breakfast is starts at 6:30 AM and our meeting begins at 7:30. Visitors welcome!
URL:https://ocalabusinessleaders.com/event/weekly-networking-breakfast-7-2-3-2/2024-05-01/
LOCATION:Ocala Golf Club\, 3130 E Silver Springs Blvd\, Ocala\, FL\, 34470\, United States
CATEGORIES:Fellowship Breakfast,Networking Event
ATTACH;FMTTYPE=image/jpeg:https://ocalabusinessleaders.com/wp-content/uploads/2022/03/breakfast-at-obl.jpg
END:VEVENT
BEGIN:VEVENT
DTSTART;TZID=America/New_York:20240424T073000
DTEND;TZID=America/New_York:20240424T083000
DTSTAMP:20260421T190520
CREATED:20240419T125223Z
LAST-MODIFIED:20240419T133634Z
UID:10000610-1713943800-1713947400@ocalabusinessleaders.com
SUMMARY:Boys & Girls Club
DESCRIPTION:Join us for breakfast and a presentation from April Savarese of the Boys & Girls Club. \nThe Boys & Girls Club of Marion County is a non-profit organization dedicated to providing young people with a safe and positive environment where they can learn\, grow\, and develop into responsible and caring adults.  They offer a variety of programs and services to help young people develop the skills\, values\, and confidence they need to succeed in life.
URL:https://ocalabusinessleaders.com/event/boys-girls-club/
LOCATION:Ocala Golf Club\, 3130 E Silver Springs Blvd\, Ocala\, FL\, 34470\, United States
CATEGORIES:Guest Speaker
ATTACH;FMTTYPE=image/jpeg:https://ocalabusinessleaders.com/wp-content/uploads/2022/09/BoyAndGirlsClub.jpg
END:VEVENT
BEGIN:VEVENT
DTSTART;TZID=America/New_York:20240424T063000
DTEND;TZID=America/New_York:20240424T073000
DTSTAMP:20260421T190520
CREATED:20240103T144025Z
LAST-MODIFIED:20240501T130857Z
UID:10000628-1713940200-1713943800@ocalabusinessleaders.com
SUMMARY:Weekly Networking Breakfast
DESCRIPTION:Join us at the Ocala Golf Club on Wednesdays for our weekly OBL fellowship breakfast. This is a great opportunity to meet the members of Ocala Business Leaders and introduce yourself to the community. Breakfast is starts at 6:30 AM and our meeting begins at 7:30. Visitors welcome!
URL:https://ocalabusinessleaders.com/event/weekly-networking-breakfast-7-2-3-2/2024-04-24/
LOCATION:Ocala Golf Club\, 3130 E Silver Springs Blvd\, Ocala\, FL\, 34470\, United States
CATEGORIES:Fellowship Breakfast,Networking Event
ATTACH;FMTTYPE=image/jpeg:https://ocalabusinessleaders.com/wp-content/uploads/2022/03/breakfast-at-obl.jpg
END:VEVENT
END:VCALENDAR